BEGIN:VCALENDAR
VERSION:2.0
PRODID:-//eventon.com NONSGML v1.0//EN
CALSCALE:GREGORIAN
METHOD:PUBLISH
BEGIN:VEVENT
UID:69e622016025f
DTSTAMP:20260420T125425Z
DTSTART:20251007T093000Z
DTEND:20251007T110000Z
LOCATION:
SUMMARY:Faculty Development Program on Innovative Pedagogical Skills for 21st Century Teaching: Insights from Erasmus+ Project
DESCRIPTION:The Department of Biomedical Engineering\,  Faculty of Engineer
 ing\,  Salim Habib University\,  organized a Faculty Development Program on
  Innovative Pedagogical Skills for 21st Century Teaching: Insights from Era
 smus+ Project\,  on Tuesday\,  October 7\,  2025\,  under the University’
 s Center of Learning and Teaching (CLT). The session was conducted by Prof.
  Dr. Muhammad[..]\nhttps://www.shu.edu.pk/events/faculty-development-progra
 m-on-innovative-pedagogical-skills-for-21st-century-teaching-insights-from-
 erasmus-project/
URL:https://www.shu.edu.pk/events/faculty-development-program-on-innovative-pedagogical-skills-for-21st-century-teaching-insights-from-erasmus-project/
END:VEVENT
END:VCALENDAR