BEGIN:VCALENDAR
VERSION:2.0
PRODID:-//eventon.com NONSGML v1.0//EN
CALSCALE:GREGORIAN
METHOD:PUBLISH
BEGIN:VEVENT
UID:69eb3a738c564
DTSTAMP:20260424T094003Z
DTSTART:20251003T050000Z
DTEND:20251003T113000Z
LOCATION:
SUMMARY:Art and Design as Catalyst
DESCRIPTION:On behalf of ADA &#8211; Architecture\,  Design\,  Art\,  CADC 
 (Center for AI Digital Arts &amp; Creative Design)\,  students were invited
  to attend &#8216;Art and Design as Catalyst&#8217; at the British Council\
 ,  Karachi\,  on October 3\,  2025. This year&#8217;s seminar highlighted a
 ward-winning projects and practices from the ADA Awards Fourth Cycle\, [..]
 \nhttps://www.shu.edu.pk/events/art-and-design-as-catalyst/
URL:https://www.shu.edu.pk/events/art-and-design-as-catalyst/
END:VEVENT
END:VCALENDAR