BEGIN:VCALENDAR
VERSION:2.0
PRODID:-//eventon.com NONSGML v1.0//EN
CALSCALE:GREGORIAN
METHOD:PUBLISH
BEGIN:VEVENT
UID:69e6646312341
DTSTAMP:20260420T173739Z
DTSTART:20251009T053000Z
DTEND:20251009T073000Z
LOCATION:
SUMMARY:Faculty Development Program on Nutraceuticals and Regulatory Requirements
DESCRIPTION:The Faculty of Pharmacy\,  Salim Habib University\,  organized 
 a Faculty Development Program on Nutraceuticals and Regulatory Requirements
  on Thursday\,  October 9\,  2025\,  under the University&#8217;s Center of
  Learning &amp; Teaching (CLT).The session was conducted by Mr. Shafiq Ur R
 ehman\,  Chief Operating Officer\,  Wellgenix London Healthcare.\nhttps://w
 ww.shu.edu.pk/events/faculty-development-program-on-nutraceuticals-and-regu
 latory-requirements/
URL:https://www.shu.edu.pk/events/faculty-development-program-on-nutraceuticals-and-regulatory-requirements/
END:VEVENT
END:VCALENDAR