BEGIN:VCALENDAR
VERSION:2.0
PRODID:-//eventon.com NONSGML v1.0//EN
CALSCALE:GREGORIAN
METHOD:PUBLISH
BEGIN:VEVENT
UID:69e89b75e7718
DTSTAMP:20260422T095709Z
DTSTART:20251001T053000Z
DTEND:20251001T090000Z
LOCATION:
SUMMARY:Salim Habib University visited Pako Computers
DESCRIPTION:On October 1\,  2025\,  Computer Science students from Salim Ha
 bib University visited Pako Computers. During the visit\,  the students exp
 lored the latest advancements in computing technologies and gained hands-on
  experience and insights into cutting-edge industry trends.The students als
 o actively participated in various engaging activities\,  which not only st
 rengthened their technical[..]\nhttps://www.shu.edu.pk/events/salim-habib-u
 niversity-visited-pako-computers/
URL:https://www.shu.edu.pk/events/salim-habib-university-visited-pako-computers/
END:VEVENT
END:VCALENDAR