BEGIN:VCALENDAR
VERSION:2.0
PRODID:-//eventon.com NONSGML v1.0//EN
CALSCALE:GREGORIAN
METHOD:PUBLISH
BEGIN:VEVENT
UID:69e6551f68aaa
DTSTAMP:20260420T163231Z
DTSTART:20251011T043000Z
DTEND:20251011T090000Z
LOCATION:
SUMMARY:One-Day Teachers’ Professional Training Program
DESCRIPTION:A One-Day Teachers’ Professional Training Program\,  held in 
 collaboration with Salim Habib University and Blue Ocean Educational Servic
 es Pvt. Ltd.\,  took place on Saturday\,  October 11\,  2025\,  at MBB Audi
 torium\,  SHU. The event\,  which brought together academicians and industr
 y\,  featured inspiring talks from our Honorable Vice Chancellor\,  Prof. D
 r. Irfan[..]\nhttps://www.shu.edu.pk/events/one-day-teachers-professional-t
 raining-program/
URL:https://www.shu.edu.pk/events/one-day-teachers-professional-training-program/
END:VEVENT
END:VCALENDAR