BEGIN:VCALENDAR
VERSION:2.0
PRODID:-//eventon.com NONSGML v1.0//EN
CALSCALE:GREGORIAN
METHOD:PUBLISH
BEGIN:VEVENT
UID:69e6339bee367
DTSTAMP:20260420T140931Z
DTSTART:20251020T053000Z
DTEND:20251020T073000Z
LOCATION:
SUMMARY:CLT - Beyond Medicines: Pharmacists as Custodians of Medical Devices
DESCRIPTION:The Faculty of Pharmacy\,  Salim Habib University (SHU)\,  orga
 nized a Guest Lecture Series Session on Beyond Medicines: Pharmacists as Cu
 stodians of Medical Devices on Monday\,  October 20\,  2025\,  under the Un
 iversity’s Center of Learning &amp; Teaching (CLT). The session was condu
 cted by Mr. Syed Yawar Imam\,  Project Director\,  Cambridge GeneticX.\nhtt
 ps://www.shu.edu.pk/events/clt-beyond-medicines-pharmacists-as-custodians-o
 f-medical-devices/
URL:https://www.shu.edu.pk/events/clt-beyond-medicines-pharmacists-as-custodians-of-medical-devices/
END:VEVENT
END:VCALENDAR