BEGIN:VCALENDAR
VERSION:2.0
PRODID:-//eventon.com NONSGML v1.0//EN
CALSCALE:GREGORIAN
METHOD:PUBLISH
BEGIN:VEVENT
UID:69e620493b739
DTSTAMP:20260420T124705Z
DTSTART:20251015T053000Z
DTEND:20251015T073000Z
LOCATION:
SUMMARY:CLT - Future Trends in Biomedical Instrumentation and Medical Imaging: Bridging Academia with Industrial Practices
DESCRIPTION:The Department of Biomedical Engineering\,  Faculty of Engineer
 ing\,  Salim Habib University\,  organized a Guest Lecture Series session o
 n Future Trends in Biomedical Instrumentation and Medical Imaging: Bridging
  Academia with Industrial Practices on Wednesday\,  October 15\,  2025\,  u
 nder the University&#8217;s Center for Learning &amp; Teaching (CLT). The s
 ession was conducted by[..]\nhttps://www.shu.edu.pk/events/clt-future-trend
 s-in-biomedical-instrumentation-and-medical-imaging-bridging-academia-with-
 industrial-practices/
URL:https://www.shu.edu.pk/events/clt-future-trends-in-biomedical-instrumentation-and-medical-imaging-bridging-academia-with-industrial-practices/
END:VEVENT
END:VCALENDAR