BEGIN:VCALENDAR
VERSION:2.0
PRODID:-//eventon.com NONSGML v1.0//EN
CALSCALE:GREGORIAN
METHOD:PUBLISH
BEGIN:VEVENT
UID:69e89c3465f3e
DTSTAMP:20260422T100020Z
DTSTART:20251022T053000Z
DTEND:20251022T073000Z
LOCATION:
SUMMARY:CLT - Biomedical Materials: Applications\,  Compatibility and Smart Technologies
DESCRIPTION:The Department of Biomedical Engineering\,  Faculty of Engineer
 ing\,  Salim Habib University\,  organized a Guest Lecture Series Session o
 n Biomedical Materials: Applications\,  Compatibility and Smart Technologie
 s on Wednesday\,  October 22\,  2025\,  under the University&#8217;s Center
  for Learning &amp; Teaching (CLT). The session was conducted by Mr. Sheikh
  Hasnain Arshad\,  Simulation Technical[..]\nhttps://www.shu.edu.pk/events/
 clt-biomedical-materials-applications-compatibility-and-smart-technologies/
URL:https://www.shu.edu.pk/events/clt-biomedical-materials-applications-compatibility-and-smart-technologies/
END:VEVENT
END:VCALENDAR