BEGIN:VCALENDAR
VERSION:2.0
PRODID:-//eventon.com NONSGML v1.0//EN
CALSCALE:GREGORIAN
METHOD:PUBLISH
BEGIN:VEVENT
UID:69e631849128d
DTSTAMP:20260420T140036Z
DTSTART:20251023T093000Z
DTEND:20251023T113000Z
LOCATION:
SUMMARY:Equal - A Celebration of Women Empowerment
DESCRIPTION:Equal &#8211; A Celebration of Women Empowerment\,  organized b
 y Salim Habib University’s Student Affairs Department and Marketing and M
 edia Society\,  was held on Thursday\,  October 23\,  2025\,  to honour wom
 en’s profound contributions and achievements across personal and professi
 onal spheres. A key highlight of the event was an engaging panel discussion
 [..]\nhttps://www.shu.edu.pk/events/equal-a-celebration-of-women-empowermen
 t/
URL:https://www.shu.edu.pk/events/equal-a-celebration-of-women-empowerment/
END:VEVENT
END:VCALENDAR