BEGIN:VCALENDAR
VERSION:2.0
PRODID:-//eventon.com NONSGML v1.0//EN
CALSCALE:GREGORIAN
METHOD:PUBLISH
BEGIN:VEVENT
UID:69e6318e13c55
DTSTAMP:20260420T140046Z
DTSTART:20251023T090000Z
DTEND:20251023T100000Z
LOCATION:
SUMMARY:SHU X The Citizen’s Foundation
DESCRIPTION:Salim Habib University (SHU) has signed a Memorandum of Underst
 anding (MoU) with The Citizen’s Foundation (TCF) to establish and sustain
  a mutually beneficial partnership. The initiation of this incredible partn
 ership would not have been possible without the dedicated efforts of Mr. Mu
 stehsen Ahmed\,  Senior Manager Admissions &amp; Outreach\,  SHU\,  to[..]\
 nhttps://www.shu.edu.pk/events/shu-x-the-citizens-foundation/
URL:https://www.shu.edu.pk/events/shu-x-the-citizens-foundation/
END:VEVENT
END:VCALENDAR