BEGIN:VCALENDAR
VERSION:2.0
PRODID:-//eventon.com NONSGML v1.0//EN
CALSCALE:GREGORIAN
METHOD:PUBLISH
BEGIN:VEVENT
UID:69e6554e079d1
DTSTAMP:20260420T163318Z
DTSTART:20251027T063000Z
DTEND:20251027T070000Z
LOCATION:
SUMMARY:SHU marks Black Day with a solidarity walk for Kashmiri people
DESCRIPTION:On Monday\,  October 27\,  2025\,  Salim Habib University (SHU)
  stood united in commemoration of Black Day\,  as we expressed our unwaveri
 ng solidarity with those suffering in Kashmir. Flags and spirits soared hig
 h as students\,  faculty\,  and staff walked hand in hand to stand against 
 the cruelty and injustice faced by[..]\nhttps://www.shu.edu.pk/events/shu-m
 arks-black-day-with-a-solidarity-walk-for-kashmiri-people/
URL:https://www.shu.edu.pk/events/shu-marks-black-day-with-a-solidarity-walk-for-kashmiri-people/
END:VEVENT
END:VCALENDAR