BEGIN:VCALENDAR
VERSION:2.0
PRODID:-//eventon.com NONSGML v1.0//EN
CALSCALE:GREGORIAN
METHOD:PUBLISH
BEGIN:VEVENT
UID:69e89c3b3e56d
DTSTAMP:20260422T100027Z
DTSTART:20251023T053000Z
DTEND:20251023T080000Z
LOCATION:
SUMMARY:Third-year pharmacy students at SHU visited Jinnah Postgraduate Medical Center 
DESCRIPTION:On October 23\,  2025\,  third-year pharmacy students at Salim 
 Habib University visited Jinnah Postgraduate Medical Center&nbsp;(JPMC) and
  the Atomic Energy Medical Centre (AEMC) to observe the latest technologies
  used in radiation therapy. The students were also given a tour of the Onco
 logy Department\,  where they learned about advanced equipment such[..]\nht
 tps://www.shu.edu.pk/events/third-year-pharmacy-students-at-shu-visited-jin
 nah-postgraduate-medical-center/
URL:https://www.shu.edu.pk/events/third-year-pharmacy-students-at-shu-visited-jinnah-postgraduate-medical-center/
END:VEVENT
END:VCALENDAR