BEGIN:VCALENDAR
VERSION:2.0
PRODID:-//eventon.com NONSGML v1.0//EN
CALSCALE:GREGORIAN
METHOD:PUBLISH
BEGIN:VEVENT
UID:69e641cd85b2e
DTSTAMP:20260420T151005Z
DTSTART:20251030T053000Z
DTEND:20251030T073000Z
LOCATION:
SUMMARY:CLT - A Molecular Insight into the Secretion System Shaping Plant-Pathogen Interactions
DESCRIPTION:The Department of Biosciences\,  Faculty of Science\,  Salim Ha
 bib University (SHU)\,  organized a Guest Lecture Series Session titled A M
 olecular Insight into the Secretion System Shaping Plant-Pathogen Interacti
 ons on Thursday\,  October 30\,  2025\,  under the University’s Center of
  Learning and Teaching (CLT). The session was conducted by Mr. Samuel Goll\
 , [..]\nhttps://www.shu.edu.pk/events/clt-a-molecular-insight-into-the-secr
 etion-system-shaping-plant-pathogen-interactions/
URL:https://www.shu.edu.pk/events/clt-a-molecular-insight-into-the-secretion-system-shaping-plant-pathogen-interactions/
END:VEVENT
END:VCALENDAR