BEGIN:VCALENDAR
VERSION:2.0
PRODID:-//eventon.com NONSGML v1.0//EN
CALSCALE:GREGORIAN
METHOD:PUBLISH
BEGIN:VEVENT
UID:69e6207d453bc
DTSTAMP:20260420T124757Z
DTSTART:20251103T053000Z
DTEND:20251103T073000Z
LOCATION:
SUMMARY:Session on Essentials of Management as part of its Personality Development & Career Counselling Series.
DESCRIPTION:The Center for Industry Linkages &amp; Placements (CILP) at Sal
 im Habib University\,  organized an informative session on Essentials of Ma
 nagement as part of its Personality Development &amp; Career Counselling Se
 ries. The session was conducted by Mr. Ahmed Ali\,  Corporate Trainer\,  NL
 P Practitioner &amp; Performance Coach.\nhttps://www.shu.edu.pk/events/sess
 ion-on-essentials-of-management-as-part-of-its-personality-development-care
 er-counselling-series/
URL:https://www.shu.edu.pk/events/session-on-essentials-of-management-as-part-of-its-personality-development-career-counselling-series/
END:VEVENT
END:VCALENDAR