BEGIN:VCALENDAR
VERSION:2.0
PRODID:-//eventon.com NONSGML v1.0//EN
CALSCALE:GREGORIAN
METHOD:PUBLISH
BEGIN:VEVENT
UID:69e6500b151fa
DTSTAMP:20260420T161051Z
DTSTART:20251105T053000Z
DTEND:20251105T073000Z
LOCATION:
SUMMARY:Hands-On Training Workshop on HPLC Operation and Method Development for Postgraduate Researchers
DESCRIPTION:The Faculty of Pharmacy\,  Salim Habib University (SHU)\,  orga
 nized a Hands-On Training Workshop on HPLC Operation and Method Development
  for Postgraduate Researchers on Wednesday\,  November 5\,  2025\,  under t
 he University’s Center of Learning &amp; Teaching (CLT). The workshop was
  conducted by Dr. Abdul Hafeez Laghari\,  Senior Scientific Officer\,  &nbs
 p;Pakistan Council[..]\nhttps://www.shu.edu.pk/events/hands-on-training-wor
 kshop-on-hplc-operation-and-method-development-for-postgraduate-researchers
 /
URL:https://www.shu.edu.pk/events/hands-on-training-workshop-on-hplc-operation-and-method-development-for-postgraduate-researchers/
END:VEVENT
END:VCALENDAR