BEGIN:VCALENDAR
VERSION:2.0
PRODID:-//eventon.com NONSGML v1.0//EN
CALSCALE:GREGORIAN
METHOD:PUBLISH
BEGIN:VEVENT
UID:69e89b7543b7a
DTSTAMP:20260422T095709Z
DTSTART:20251105T053000Z
DTEND:20251105T130000Z
LOCATION:
SUMMARY:Salim Habib University Partners with PSTD as Research Partner for CONNEX 2025 – Pakistan’s Premier HR Conference & Exhibition
DESCRIPTION:Salim Habib University (SHU) was honored to be a Research Partn
 er for CONNEX 2025\,  an esteemed HR Conference &amp; Exhibition organized 
 by the Pakistan Society for Training and Development (PSTD). The event took
  place at the Pearl Continental Hotel\,  Lahore\,  on Wednesday\,  November
  5\,  2025\,  and brought together an impressive[..]\nhttps://www.shu.edu.p
 k/events/salim-habib-university-partners-with-pstd-as-research-partner-for-
 connex-2025-pakistans-premier-hr-conference-exhibition/
URL:https://www.shu.edu.pk/events/salim-habib-university-partners-with-pstd-as-research-partner-for-connex-2025-pakistans-premier-hr-conference-exhibition/
END:VEVENT
END:VCALENDAR