BEGIN:VCALENDAR
VERSION:2.0
PRODID:-//eventon.com NONSGML v1.0//EN
CALSCALE:GREGORIAN
METHOD:PUBLISH
BEGIN:VEVENT
UID:69e8adb21e4f0
DTSTAMP:20260422T111458Z
DTSTART:20251106T053000Z
DTEND:20251106T073000Z
LOCATION:
SUMMARY:CLT - Pharmaceutical Dispensing & Packaging: Ensuring Safety and Quality in Industry Practices
DESCRIPTION:The Faculty of Pharmacy\,  Salim Habib University (SHU)\,  orga
 nized a Guest Lecture Series Session on Pharmaceutical Dispensing &amp; Pac
 kaging: Ensuring Safety and Quality in Industry Practices on Thursday\,  No
 vember 6\,  2025\,  as part of the University&#8217;s Center of Learning &a
 mp; Teaching (CLT). The session was conducted by representatives from Helix
 [..]\nhttps://www.shu.edu.pk/events/clt-pharmaceutical-dispensing-packaging
 -ensuring-safety-and-quality-in-industry-practices/
URL:https://www.shu.edu.pk/events/clt-pharmaceutical-dispensing-packaging-ensuring-safety-and-quality-in-industry-practices/
END:VEVENT
END:VCALENDAR