BEGIN:VCALENDAR
VERSION:2.0
PRODID:-//eventon.com NONSGML v1.0//EN
CALSCALE:GREGORIAN
METHOD:PUBLISH
BEGIN:VEVENT
UID:69e89c356d150
DTSTAMP:20260422T100021Z
DTSTART:20251111T053000Z
DTEND:20251111T073000Z
LOCATION:
SUMMARY:CLT - Thalassemia Awareness and Prevention
DESCRIPTION:The Department of Psychology\,  Faculty of Management Sciences\
 ,  Salim Habib University\,  organized a Thalassemia Awareness and Preventi
 on Session on Tuesday\,  November 11\,  2025\,  as part of the University&#
 8217;s Center of Learning and Teaching (CLT). The session was conducted by 
 Dr. Saqib Hussain Ansari\,  President\,  Omair Sana Welfare Foundation &amp
 ; Adjunct[..]\nhttps://www.shu.edu.pk/events/clt-thalassemia-awareness-and-
 prevention/
URL:https://www.shu.edu.pk/events/clt-thalassemia-awareness-and-prevention/
END:VEVENT
END:VCALENDAR