BEGIN:VCALENDAR
VERSION:2.0
PRODID:-//eventon.com NONSGML v1.0//EN
CALSCALE:GREGORIAN
METHOD:PUBLISH
BEGIN:VEVENT
UID:69e63e0ce2e9f
DTSTAMP:20260420T145404Z
DTSTART:20251107T180000Z
DTEND:20251107T080000Z
LOCATION:
SUMMARY:CLT - Hands-On Emergency Response Orientation & Refresher Training Workshop
DESCRIPTION:The Faculty of Pharmacy\,  Salim Habib University (SHU)\,  orga
 nized a Hands-On Emergency Response Orientation &amp; Refresher Training Wo
 rkshop on Friday\,  November 7\,  2025\,  as part of the Center of Learning
  &amp; Teaching (CLT). The workshop was conducted by Mr. Khurram Latif\,  T
 raining Manager\,  Pakistan Red Crescent.\nhttps://www.shu.edu.pk/events/cl
 t-hands-on-emergency-response-orientation-refresher-training-workshop/
URL:https://www.shu.edu.pk/events/clt-hands-on-emergency-response-orientation-refresher-training-workshop/
END:VEVENT
END:VCALENDAR