BEGIN:VCALENDAR
VERSION:2.0
PRODID:-//eventon.com NONSGML v1.0//EN
CALSCALE:GREGORIAN
METHOD:PUBLISH
BEGIN:VEVENT
UID:69e64578aadcb
DTSTAMP:20260420T152544Z
DTSTART:20251106T053000Z
DTEND:20251106T073000Z
LOCATION:
SUMMARY:HEC Officials Visit SHU to Strengthen Research and Innovation Collaboration
DESCRIPTION:On Thursday\,  November 6\,  2025\,  Ms. Noshaba Awais\,  Direc
 tor\,  Research and Innovation Division\,  Higher Education Commission and 
 Engr. Abrar Ahmed\,  Deputy Director\,  Research and Innovation Division\, 
  Higher Education Commission\,  for visiting Salim Habib University.The est
 eemed guests were welcomed by Dr. Muhammad Hussain Habib\,  Registrar SHU\,
   Ms. Pariwash Khan\,  Deputy Registrar\, [..]\nhttps://www.shu.edu.pk/even
 ts/hec-officials-visit-shu-to-strengthen-research-and-innovation-collaborat
 ion/
URL:https://www.shu.edu.pk/events/hec-officials-visit-shu-to-strengthen-research-and-innovation-collaboration/
END:VEVENT
END:VCALENDAR