BEGIN:VCALENDAR
VERSION:2.0
PRODID:-//eventon.com NONSGML v1.0//EN
CALSCALE:GREGORIAN
METHOD:PUBLISH
BEGIN:VEVENT
UID:69e6455a54781
DTSTAMP:20260420T152514Z
DTSTART:20251111T053000Z
DTEND:20251111T073000Z
LOCATION:
SUMMARY:CLT - Sterile Facility Design and Operation of Hot Air Tunnel for Sterile Product Manufacturing
DESCRIPTION:The Faculty of Pharmacy\,  Salim Habib University\,  organized 
 a Webinar titled Sterile Facility Design and Operation of Hot Air Tunnel fo
 r Sterile Product Manufacturing on Tuesday\,  November 11\,  2025\,  as par
 t of the University&#8217;s Center of Learning and Teaching (CLT). The webi
 nar was conducted by Mr. Muhammad Zahid Khan\,  Commercial[..]\nhttps://www
 .shu.edu.pk/events/clt-sterile-facility-design-and-operation-of-hot-air-tun
 nel-for-sterile-product-manufacturing/
URL:https://www.shu.edu.pk/events/clt-sterile-facility-design-and-operation-of-hot-air-tunnel-for-sterile-product-manufacturing/
END:VEVENT
END:VCALENDAR