BEGIN:VCALENDAR
VERSION:2.0
PRODID:-//eventon.com NONSGML v1.0//EN
CALSCALE:GREGORIAN
METHOD:PUBLISH
BEGIN:VEVENT
UID:69e65519abcb3
DTSTAMP:20260420T163225Z
DTSTART:20251113T095300Z
DTEND:20251113T095300Z
LOCATION:
SUMMARY:Camp Exchange USA
DESCRIPTION:\nhttps://www.shu.edu.pk/events/camp-exchange-usa/
URL:https://www.shu.edu.pk/events/camp-exchange-usa/
END:VEVENT
END:VCALENDAR