BEGIN:VCALENDAR
VERSION:2.0
PRODID:-//eventon.com NONSGML v1.0//EN
CALSCALE:GREGORIAN
METHOD:PUBLISH
BEGIN:VEVENT
UID:69e650ea9f642
DTSTAMP:20260420T161434Z
DTSTART:20251113T101400Z
DTEND:20251113T101400Z
LOCATION:
SUMMARY:Mou Signing Ceremony between SHU*Marketing Now
DESCRIPTION:\nhttps://www.shu.edu.pk/events/mou-signing-ceremony-between-sh
 umarketing-now/
URL:https://www.shu.edu.pk/events/mou-signing-ceremony-between-shumarketing-now/
END:VEVENT
END:VCALENDAR