BEGIN:VCALENDAR
VERSION:2.0
PRODID:-//eventon.com NONSGML v1.0//EN
CALSCALE:GREGORIAN
METHOD:PUBLISH
BEGIN:VEVENT
UID:69e651306eff6
DTSTAMP:20260420T161544Z
DTSTART:20251113T102200Z
DTEND:20251113T102200Z
LOCATION:
SUMMARY:Tru Karachi 2025
DESCRIPTION:\nhttps://www.shu.edu.pk/events/tru-karachi-2025/
URL:https://www.shu.edu.pk/events/tru-karachi-2025/
END:VEVENT
END:VCALENDAR