BEGIN:VCALENDAR
VERSION:2.0
PRODID:-//eventon.com NONSGML v1.0//EN
CALSCALE:GREGORIAN
METHOD:PUBLISH
BEGIN:VEVENT
UID:69e62202369ad
DTSTAMP:20260420T125426Z
DTSTART:20251106T053000Z
DTEND:20251106T073000Z
LOCATION:
SUMMARY:International Dance Group ‘Ballet Beyond Borders’ Hosts Workshop at SHU
DESCRIPTION:On Thursday\,  November 6\,  2025\,  members of Ballet Beyond B
 orders\,  the renowned multi-country dance performance group set to perform
  at the World Culture Festival – Karachi 2025\,  from October 30 to Decem
 ber 7\,  2025\,  visited Salim Habib University (SHU). During their visit\,
   they conducted an engaging and interactive workshop for[..]\nhttps://www.
 shu.edu.pk/events/international-dance-group-ballet-beyond-borders-hosts-wor
 kshop-at-shu/
URL:https://www.shu.edu.pk/events/international-dance-group-ballet-beyond-borders-hosts-workshop-at-shu/
END:VEVENT
END:VCALENDAR