BEGIN:VCALENDAR
VERSION:2.0
PRODID:-//eventon.com NONSGML v1.0//EN
CALSCALE:GREGORIAN
METHOD:PUBLISH
BEGIN:VEVENT
UID:69e6533db375f
DTSTAMP:20260420T162429Z
DTSTART:20251113T050000Z
DTEND:20251113T070000Z
LOCATION:
SUMMARY:CLT - Psychology Launchpad: Navigating Career Stress with Confidence
DESCRIPTION:The Department of Biosciences\,  Faculty of Science\,  Salim Ha
 bib University (SHU)\,  organized a Guest Lecture Series Session on Psychol
 ogy Launchpad: Navigating Career Stress with Confidence on November 13\,  2
 025\,  as part of the University&#8217;s Center of Learning and Teaching (C
 LT). The session was conducted by Ms. Rafia Ali\,  Human Resources[..]\nhtt
 ps://www.shu.edu.pk/events/clt-psychology-launchpad-navigating-career-stres
 s-with-confidence/
URL:https://www.shu.edu.pk/events/clt-psychology-launchpad-navigating-career-stress-with-confidence/
END:VEVENT
END:VCALENDAR