BEGIN:VCALENDAR
VERSION:2.0
PRODID:-//eventon.com NONSGML v1.0//EN
CALSCALE:GREGORIAN
METHOD:PUBLISH
BEGIN:VEVENT
UID:69e63151e1e6b
DTSTAMP:20260420T135945Z
DTSTART:20251113T050000Z
DTEND:20251113T070000Z
LOCATION:
SUMMARY:CLT - From Campus to Corporate: The Roadmap for Building a Winning Career Path
DESCRIPTION:The Department of Business Administration\,  Faculty of Managem
 ent Sciences\,  Salim Habib University\,  organized a Guest Lecture Series 
 Session titled From Campus to Corporate: The Roadmap for Building a Winning
  Career Path on Thursday\,  November 13\,  2025\,  as part of the Universit
 y&#8217;s Center of Learning and Teaching (CLT). The session was[..]\nhttps
 ://www.shu.edu.pk/events/clt-from-campus-to-corporate-the-roadmap-for-build
 ing-a-winning-career-path/
URL:https://www.shu.edu.pk/events/clt-from-campus-to-corporate-the-roadmap-for-building-a-winning-career-path/
END:VEVENT
END:VCALENDAR