BEGIN:VCALENDAR
VERSION:2.0
PRODID:-//eventon.com NONSGML v1.0//EN
CALSCALE:GREGORIAN
METHOD:PUBLISH
BEGIN:VEVENT
UID:69e892e27bcc1
DTSTAMP:20260422T092034Z
DTSTART:20251112T053000Z
DTEND:20251113T113000Z
LOCATION:
SUMMARY:EVOX’25 Esports
DESCRIPTION:EVOX’25 Esports\,  a dynamic two-day e-gaming event organized
  by CS Cube\,  the Computer Science club at Salim Habib University\,  in co
 llaboration with the Student Affairs Department\,  was held on November 12-
 13\,  2025\,  at MBB Auditorium. The energetic gaming event\,  comprising f
 ive games\,  namely Rocket League\,  PUBG Mobile\,  FIFA 26\,  Tekken[..]\n
 https://www.shu.edu.pk/events/evox25-esports/
URL:https://www.shu.edu.pk/events/evox25-esports/
END:VEVENT
END:VCALENDAR