BEGIN:VCALENDAR
VERSION:2.0
PRODID:-//eventon.com NONSGML v1.0//EN
CALSCALE:GREGORIAN
METHOD:PUBLISH
BEGIN:VEVENT
UID:69e621f588b59
DTSTAMP:20260420T125413Z
DTSTART:20251111T050000Z
DTEND:20251111T070000Z
LOCATION:
SUMMARY:SHU final year biosciences students Visit Center for Proteomics at University of Karachi
DESCRIPTION:On November 11\,  2025\,  the final-year students from the Depa
 rtment of Biosciences\,  Salim Habib University\,  visited the Dr. Zafar H.
  Zaidi Center for Proteomics\,  University of Karachi under the supervision
  of Dr. Marriam Yamin\,  Assistant Professor\,  Department of Biosciences\,
   SHU. The visit aimed to provide students with practical exposure to[..]\n
 https://www.shu.edu.pk/events/shu-final-year-biosciences-students-visit-cen
 ter-for-proteomics-at-university-of-karachi/
URL:https://www.shu.edu.pk/events/shu-final-year-biosciences-students-visit-center-for-proteomics-at-university-of-karachi/
END:VEVENT
END:VCALENDAR