BEGIN:VCALENDAR
VERSION:2.0
PRODID:-//eventon.com NONSGML v1.0//EN
CALSCALE:GREGORIAN
METHOD:PUBLISH
BEGIN:VEVENT
UID:69e62024d8178
DTSTAMP:20260420T124628Z
DTSTART:20251118T043000Z
DTEND:20251118T070000Z
LOCATION:
SUMMARY:CLT - From Research to Reality: Academia–Industry Collaboration in Shaping Chemotherapy in Pakistan
DESCRIPTION:The Faculty of Pharmacy\,  Salim Habib University\,  organized 
 a Guest Lecture Series Session on From Research to Reality: Academia–Indu
 stry Collaboration in Shaping Chemotherapy in Pakistan on Tuesday\,  Novemb
 er 18\,  2025\,  as part of the University&#8217;s Center of Learning and T
 eaching (CLT). The session was conducted by Mr. Fahad Mir\,  Business[..]\n
 https://www.shu.edu.pk/events/clt-from-research-to-reality-academia-industr
 y-collaboration-in-shaping-chemotherapy-in-pakistan/
URL:https://www.shu.edu.pk/events/clt-from-research-to-reality-academia-industry-collaboration-in-shaping-chemotherapy-in-pakistan/
END:VEVENT
END:VCALENDAR