BEGIN:VCALENDAR
VERSION:2.0
PRODID:-//eventon.com NONSGML v1.0//EN
CALSCALE:GREGORIAN
METHOD:PUBLISH
BEGIN:VEVENT
UID:69e6534cbc6af
DTSTAMP:20260420T162444Z
DTSTART:20251120T073000Z
DTEND:20251120T113000Z
LOCATION:
SUMMARY:Excellence Awards Ceremony - 2025
DESCRIPTION:The Salim Habib University Excellence Awards Ceremony\,  organi
 zed by our Examinations Department\,  was held on Thursday\,  November 20\,
   2025. The prestigious Awards Ceremony was held to celebrate our talented 
 and high-achieving students from the faculties of Pharmacy\,  Engineering\,
   Science\,  Information Technology\,  and Management Sciences who have exc
 elled in their academic[..]\nhttps://www.shu.edu.pk/events/excellence-award
 s-ceremony-2025/
URL:https://www.shu.edu.pk/events/excellence-awards-ceremony-2025/
END:VEVENT
END:VCALENDAR