BEGIN:VCALENDAR
VERSION:2.0
PRODID:-//eventon.com NONSGML v1.0//EN
CALSCALE:GREGORIAN
METHOD:PUBLISH
BEGIN:VEVENT
UID:69e8ad6dd9af9
DTSTAMP:20260422T111349Z
DTSTART:20251119T053000Z
DTEND:20251119T073000Z
LOCATION:
SUMMARY:Hands-on training session on Beyond Google: Smarter Ways to Search – Discover High-Quality Research Using HEC Digital Library
DESCRIPTION:On Wednesday\,  November 19\,  2025\,  the Tariq Amin Library a
 t Salim Habib University organized a hands-on training session on Beyond Go
 ogle: Smarter Ways to Search – Discover High-Quality Research Using HEC D
 igital Library\,  aimed at equipping students with advanced research skills
 . The session\,  conducted by Ms. Munazzah Zarin\,  Library Officer\, [..]\
 nhttps://www.shu.edu.pk/events/hands-on-training-session-on-beyond-google-s
 marter-ways-to-search-discover-high-quality-research-using-hec-digital-libr
 ary/
URL:https://www.shu.edu.pk/events/hands-on-training-session-on-beyond-google-smarter-ways-to-search-discover-high-quality-research-using-hec-digital-library/
END:VEVENT
END:VCALENDAR