BEGIN:VCALENDAR
VERSION:2.0
PRODID:-//eventon.com NONSGML v1.0//EN
CALSCALE:GREGORIAN
METHOD:PUBLISH
BEGIN:VEVENT
UID:69e631585d3d7
DTSTAMP:20260420T135952Z
DTSTART:20251120T070000Z
DTEND:20251120T080000Z
LOCATION:
SUMMARY:Session on Write Right: Navigating Plagiarism & AI Reports with Turnitin
DESCRIPTION:On November 20\,  2025\,  the Tariq Amin Library at Salim Habib
  University successfully conducted a session on Write Right: Navigating Pla
 giarism &amp; AI Reports with Turnitin. The session\,  conducted by Ms. She
 ena Naz\,  Deputy Librarian\,  Tariq Amin Library\,  provided students with
  comprehensive guidance on creating and managing their Turnitin accounts\, 
 [..]\nhttps://www.shu.edu.pk/events/session-on-write-right-navigating-plagi
 arism-ai-reports-with-turnitin/
URL:https://www.shu.edu.pk/events/session-on-write-right-navigating-plagiarism-ai-reports-with-turnitin/
END:VEVENT
END:VCALENDAR