BEGIN:VCALENDAR
VERSION:2.0
PRODID:-//eventon.com NONSGML v1.0//EN
CALSCALE:GREGORIAN
METHOD:PUBLISH
BEGIN:VEVENT
UID:69e8a90dd7218
DTSTAMP:20260422T105509Z
DTSTART:20251119T053000Z
DTEND:20251119T073000Z
LOCATION:
SUMMARY:CLT - Regulatory Affairs for Future Pharmacists: Navigating Pakistan’s Regulatory Framework and CTD Dossier Requirements
DESCRIPTION:The Faculty of Pharmacy\,  Salim Habib University (SHU)\,  orga
 nized a Guest Lecture Series Session on Regulatory Affairs for Future Pharm
 acists: Navigating Pakistan’s Regulatory Framework and CTD Dossier Requir
 ements on Wednesday\,  November 19\,  2025\,  as part of the University’s
  Center of Learning and Teaching (CLT). The session was conducted by repres
 entatives[..]\nhttps://www.shu.edu.pk/events/clt-regulatory-affairs-for-fut
 ure-pharmacists-navigating-pakistans-regulatory-framework-and-ctd-dossier-r
 equirements/
URL:https://www.shu.edu.pk/events/clt-regulatory-affairs-for-future-pharmacists-navigating-pakistans-regulatory-framework-and-ctd-dossier-requirements/
END:VEVENT
END:VCALENDAR