BEGIN:VCALENDAR
VERSION:2.0
PRODID:-//eventon.com NONSGML v1.0//EN
CALSCALE:GREGORIAN
METHOD:PUBLISH
BEGIN:VEVENT
UID:69e8a8c64b125
DTSTAMP:20260422T105358Z
DTSTART:20251119T073000Z
DTEND:20251119T100000Z
LOCATION:
SUMMARY:Empowering Futures: CILP Hosts Mentoring Session with SHU Alumna
DESCRIPTION:Salim Habib University&#8217;s Center for Industry Linkages &am
 p; Placements (CILP)\,  organized a Mentoring Session on Monday\,  November
  19\,  2025\,  under its Career Connect 4.0 initiative. The session was con
 ducted by our alumna Ms. Laviza Somroo\,  Class of BS Computer Science 2022
 \,  and was part of CILP’s Mentor Mentee Meetup Series[..]\nhttps://www.s
 hu.edu.pk/events/empowering-futures-cilp-hosts-mentoring-session-with-shu-a
 lumna/
URL:https://www.shu.edu.pk/events/empowering-futures-cilp-hosts-mentoring-session-with-shu-alumna/
END:VEVENT
END:VCALENDAR