BEGIN:VCALENDAR
VERSION:2.0
PRODID:-//eventon.com NONSGML v1.0//EN
CALSCALE:GREGORIAN
METHOD:PUBLISH
BEGIN:VEVENT
UID:69e642243258f
DTSTAMP:20260420T151132Z
DTSTART:20251202T053000Z
DTEND:20251202T073000Z
LOCATION:
SUMMARY:CLT - Strategic Business Communication for High-Impact Success
DESCRIPTION:The Department of Social Sciences &amp; Humanities\,  Faculty o
 f Management Sciences\,  Salim Habib University\,  organized a Guest Lectur
 e Series Session on Strategic Business Communication for High-Impact Succes
 s on December 2\,  2025\,  as part of the University&#8217;s Center of Lear
 ning and Teaching (CLT) The session was conducted by Mr. Ranjeet Kumar\, [.
 .]\nhttps://www.shu.edu.pk/events/clt-strategic-business-communication-for-
 high-impact-success/
URL:https://www.shu.edu.pk/events/clt-strategic-business-communication-for-high-impact-success/
END:VEVENT
END:VCALENDAR