BEGIN:VCALENDAR
VERSION:2.0
PRODID:-//eventon.com NONSGML v1.0//EN
CALSCALE:GREGORIAN
METHOD:PUBLISH
BEGIN:VEVENT
UID:69e641e7f120d
DTSTAMP:20260420T151031Z
DTSTART:20251204T053000Z
DTEND:20251204T073000Z
LOCATION:
SUMMARY:BBA and A&F Students Visit Pakistan Stock Exchange for Industry Exposure
DESCRIPTION:Second-year BBA and BS Accounting &amp; Finance students at Sal
 im Habib University visited the Pakistan Stock Exchange (PSX) on December 4
 \,  2025\,  where they explored the workings of the capital markets and gai
 ned practical insights into trading mechanisms and the importance of inform
 ed investment decisions. The visit also featured an[..]\nhttps://www.shu.ed
 u.pk/events/bba-and-af-students-visit-pakistan-stock-exchange-for-industry-
 exposure/
URL:https://www.shu.edu.pk/events/bba-and-af-students-visit-pakistan-stock-exchange-for-industry-exposure/
END:VEVENT
END:VCALENDAR