BEGIN:VCALENDAR
VERSION:2.0
PRODID:-//eventon.com NONSGML v1.0//EN
CALSCALE:GREGORIAN
METHOD:PUBLISH
BEGIN:VEVENT
UID:69eb3a26d41b1
DTSTAMP:20260424T093846Z
DTSTART:20251207T030000Z
DTEND:20251207T080000Z
LOCATION:
SUMMARY:Indus Insight 2025
DESCRIPTION:\nhttps://www.shu.edu.pk/events/indus-insight-2025/
URL:https://www.shu.edu.pk/events/indus-insight-2025/
END:VEVENT
END:VCALENDAR