BEGIN:VCALENDAR
VERSION:2.0
PRODID:-//eventon.com NONSGML v1.0//EN
CALSCALE:GREGORIAN
METHOD:PUBLISH
BEGIN:VEVENT
UID:69e8a6c0252b2
DTSTAMP:20260422T104520Z
DTSTART:20251212T103000Z
DTEND:20251212T113000Z
LOCATION:
SUMMARY:Celebrating Our December-Born Staff Members at SHU
DESCRIPTION:A birthday celebration was held at Salim Habib University on Fr
 iday\,  December 12\,  2025\,  for all members of the staff whose dates of 
 birth fall in December. We wish the happiest of birthdays to all these dear
  employees and pray that they live long\,  happy\,  and successful lives. H
 appy birthday!\nhttps://www.shu.edu.pk/events/celebrating-our-december-born
 -staff-members-at-shu/
URL:https://www.shu.edu.pk/events/celebrating-our-december-born-staff-members-at-shu/
END:VEVENT
END:VCALENDAR