BEGIN:VCALENDAR
VERSION:2.0
PRODID:-//eventon.com NONSGML v1.0//EN
CALSCALE:GREGORIAN
METHOD:PUBLISH
BEGIN:VEVENT
UID:69e657fb16242
DTSTAMP:20260420T164443Z
DTSTART:20251128T050000Z
DTEND:20251128T070000Z
LOCATION:
SUMMARY:CLT - The Scope and Role of Pharmacists in Pharmaceutical Microbiology and Immunology
DESCRIPTION:The Faculty of Pharmacy\,  Salim Habib University (SHU)\,  orga
 nized a Guest Lecture Series Session on The Scope and Role of Pharmacists i
 n Pharmaceutical Microbiology and Immunology on November 28\,  2025\,  as p
 art of the University&#8217;s Center of Learning and Teaching (CLT). The se
 ssion was conducted by Ms. Mohniyal Abbasi\,  Quality[..]\nhttps://www.shu.
 edu.pk/events/clt-the-scope-and-role-of-pharmacists-in-pharmaceutical-micro
 biology-and-immunology/
URL:https://www.shu.edu.pk/events/clt-the-scope-and-role-of-pharmacists-in-pharmaceutical-microbiology-and-immunology/
END:VEVENT
END:VCALENDAR