BEGIN:VCALENDAR
VERSION:2.0
PRODID:-//eventon.com NONSGML v1.0//EN
CALSCALE:GREGORIAN
METHOD:PUBLISH
BEGIN:VEVENT
UID:69e653d3b75a9
DTSTAMP:20260420T162659Z
DTSTART:20251210T053000Z
DTEND:20251210T093000Z
LOCATION:
SUMMARY:SHU CS Students Participate in BPO & Tech Career Expo 2025
DESCRIPTION:On Wednesday\,  December 10\,  2025\,  students from the Depart
 ment of Computer Science at Salim Habib University participated in the BPO 
 &amp; Tech Career Expo 2025. The event organized by Ashrei Tech at the Nati
 onal Aerospace Science and Technology Park (NASTP) was part of Career Conne
 ct 4.0\,  an initiative by the[..]\nhttps://www.shu.edu.pk/events/shu-cs-st
 udents-participate-in-bpo-tech-career-expo-2025/
URL:https://www.shu.edu.pk/events/shu-cs-students-participate-in-bpo-tech-career-expo-2025/
END:VEVENT
END:VCALENDAR