BEGIN:VCALENDAR
VERSION:2.0
PRODID:-//eventon.com NONSGML v1.0//EN
CALSCALE:GREGORIAN
METHOD:PUBLISH
BEGIN:VEVENT
UID:69e89c3522f69
DTSTAMP:20260422T100021Z
DTSTART:20251217T083300Z
DTEND:20251217T083300Z
LOCATION:
SUMMARY:Khelo Shaan Se 2025
DESCRIPTION:Intra-University Sports Championship The Sports Department of S
 alim Habib University proudly organized “Khelo Shaan Se 2025”\,  an Int
 ra-Departmental Sports Championship aimed at promoting physical fitness\,  
 teamwork\,  sportsmanship\,  and a healthy competitive spirit among student
 s. The event brought together students from various departments who activel
 y participated in a range of indoor[..]\nhttps://www.shu.edu.pk/events/khel
 o-shaan-se-2025/
URL:https://www.shu.edu.pk/events/khelo-shaan-se-2025/
END:VEVENT
END:VCALENDAR