BEGIN:VCALENDAR
VERSION:2.0
PRODID:-//eventon.com NONSGML v1.0//EN
CALSCALE:GREGORIAN
METHOD:PUBLISH
BEGIN:VEVENT
UID:69e652aeb0232
DTSTAMP:20260420T162206Z
DTSTART:20251217T084500Z
DTEND:20251217T084500Z
LOCATION:
SUMMARY:Summer Cricket Series
DESCRIPTION:Salim Habib University vs Federal Urdu University of Arts\,  Sc
 ience &amp; Technology Team Salim Habib University participated in the Summ
 er Cricket Series against Federal Urdu University of Arts\,  Science &amp; 
 Technology (FUUAST)\,  showcasing exceptional sportsmanship\,  teamwork\,  
 and competitive spirit. The series provided an excellent opportunity for st
 udent-athletes from both universities[..]\nhttps://www.shu.edu.pk/events/su
 mmer-cricket-series/
URL:https://www.shu.edu.pk/events/summer-cricket-series/
END:VEVENT
END:VCALENDAR