BEGIN:VCALENDAR
VERSION:2.0
PRODID:-//eventon.com NONSGML v1.0//EN
CALSCALE:GREGORIAN
METHOD:PUBLISH
BEGIN:VEVENT
UID:69e6555d856a5
DTSTAMP:20260420T163333Z
DTSTART:20251217T085600Z
DTEND:20251217T085600Z
LOCATION:
SUMMARY:Friendly Exhibition Matches
DESCRIPTION:Table Tennis &amp; Badminton | Salim Habib University vs MITE U
 niversity Team Salim Habib University organized and participated in friendl
 y exhibition matches of Table Tennis and Badminton against MITE University\
 ,  fostering inter-university collaboration and sportsmanship. The matches 
 provided an excellent platform for players to gain match experience\,  refi
 ne their skills\, [..]\nhttps://www.shu.edu.pk/events/friendly-exhibition-m
 atches/
URL:https://www.shu.edu.pk/events/friendly-exhibition-matches/
END:VEVENT
END:VCALENDAR