BEGIN:VCALENDAR
VERSION:2.0
PRODID:-//eventon.com NONSGML v1.0//EN
CALSCALE:GREGORIAN
METHOD:PUBLISH
BEGIN:VEVENT
UID:69e641584d928
DTSTAMP:20260420T150808Z
DTSTART:20251218T053000Z
DTEND:20251218T090000Z
LOCATION:
SUMMARY:Undergraduate Project Exhibition 2025: Showcasing Innovation in Pharmaceutical SciencesUndergraduate Project Exhibition
DESCRIPTION:The Undergraduate Project Exhibition\,  one of the key highligh
 ts of our Faculty of Pharmacy’s mega event\,  Pharma Expo: Mentorship\,  
 Innovation &amp; Wellness\,  was held on Thursday\,  December 18\,  2025\, 
  at Salim Habib University&#8217;s Fatima Business School. The event showca
 sed over 200 ingenious student projects\,  highlighting innovation and rese
 arch in pharmaceutical[..]\nhttps://www.shu.edu.pk/events/undergraduate-pro
 ject-exhibition-2025-showcasing-innovation-in-pharmaceutical-sciencesunderg
 raduate-project-exhibition/
URL:https://www.shu.edu.pk/events/undergraduate-project-exhibition-2025-showcasing-innovation-in-pharmaceutical-sciencesundergraduate-project-exhibition/
END:VEVENT
END:VCALENDAR