BEGIN:VCALENDAR
VERSION:2.0
PRODID:-//eventon.com NONSGML v1.0//EN
CALSCALE:GREGORIAN
METHOD:PUBLISH
BEGIN:VEVENT
UID:69eb3981c3d40
DTSTAMP:20260424T093601Z
DTSTART:20251218T073000Z
DTEND:20251218T093000Z
LOCATION:
SUMMARY:PharmForward 2.0: One-on-One Mentoring Session
DESCRIPTION:PharmForward 2.0: One-on-One Mentoring Session\,  organized as 
 part of our Faculty of Pharmacy’s mega event\,  Pharma Expo: Mentorship\,
   Innovation &amp; Wellness\,  was held on Thursday\,  December 18\,  2025\
 ,  at Salim Habib University&#8217;s Fatima Business School. The session br
 ought together distinguished professionals from the pharmaceutical industry
 \,  including Dr. Mudassar Hussain\,  Senior[..]\nhttps://www.shu.edu.pk/ev
 ents/pharmforward-2-0-one-on-one-mentoring-session/
URL:https://www.shu.edu.pk/events/pharmforward-2-0-one-on-one-mentoring-session/
END:VEVENT
END:VCALENDAR