BEGIN:VCALENDAR
VERSION:2.0
PRODID:-//eventon.com NONSGML v1.0//EN
CALSCALE:GREGORIAN
METHOD:PUBLISH
BEGIN:VEVENT
UID:69e632216bb4d
DTSTAMP:20260420T140313Z
DTSTART:20251222T053000Z
DTEND:20251222T073000Z
LOCATION:
SUMMARY:CLT - Understanding Hepatitis: Clinical Insights into Diagnosis and Management
DESCRIPTION:The Faculty of Pharmacy\,  Salim Habib University (SHU)\,  orga
 nized a Guest Lecture Series Session on Understanding Hepatitis: Clinical I
 nsights into Diagnosis and Management on Monday\,  December 22\,  2025\,  u
 nder the University’s Center of Learning &amp; Teaching (CLT). The sessio
 n was conducted by Mr. Sheikh Muhammad Saad\, &nbsp;Clinical Pharmacist\, &
 nbsp;Indus Hospital and Healthcare[..]\nhttps://www.shu.edu.pk/events/clt-u
 nderstanding-hepatitis-clinical-insights-into-diagnosis-and-management/
URL:https://www.shu.edu.pk/events/clt-understanding-hepatitis-clinical-insights-into-diagnosis-and-management/
END:VEVENT
END:VCALENDAR