BEGIN:VCALENDAR
VERSION:2.0
PRODID:-//eventon.com NONSGML v1.0//EN
CALSCALE:GREGORIAN
METHOD:PUBLISH
BEGIN:VEVENT
UID:69e89b80584a2
DTSTAMP:20260422T095720Z
DTSTART:20251222T053000Z
DTEND:20251222T093000Z
LOCATION:
SUMMARY:Engineering Undergraduate Project and Poster Exhibition
DESCRIPTION:The Engineering Design Showcase\,  an Undergraduate Project and
  Poster Exhibition organized by the Faculty of Engineering at Salim Habib U
 niversity\,  was held on Monday\,  December 22\,  2025\,  to exhibit our st
 udents’ projects and posters. The event featured an innovative display of
  the research projects and posters developed by students in[..]\nhttps://ww
 w.shu.edu.pk/events/engineering-undergraduate-project-and-poster-exhibition
 /
URL:https://www.shu.edu.pk/events/engineering-undergraduate-project-and-poster-exhibition/
END:VEVENT
END:VCALENDAR