BEGIN:VCALENDAR
VERSION:2.0
PRODID:-//eventon.com NONSGML v1.0//EN
CALSCALE:GREGORIAN
METHOD:PUBLISH
BEGIN:VEVENT
UID:69e8ad8437677
DTSTAMP:20260422T111412Z
DTSTART:20251223T053000Z
DTEND:20251223T090000Z
LOCATION:
SUMMARY:Building Resilient Minds: Mental Wellbeing & Advocacy
DESCRIPTION:Building Resilient Minds: Mental Wellbeing &amp; Advocacy\,  a 
 hands-on Training Workshop organized by the Faculty of Engineering\,  in co
 llaboration with the Department of Psychology at Salim Habib University und
 er its BIOMED 5.0 Project and co-funded by the European Union\,  was held o
 n Tuesday\,  December 23\,  2025.The workshop\,  conducted by Dr.[..]\nhttp
 s://www.shu.edu.pk/events/building-resilient-minds-mental-wellbeing-advocac
 y/
URL:https://www.shu.edu.pk/events/building-resilient-minds-mental-wellbeing-advocacy/
END:VEVENT
END:VCALENDAR