BEGIN:VCALENDAR
VERSION:2.0
PRODID:-//eventon.com NONSGML v1.0//EN
CALSCALE:GREGORIAN
METHOD:PUBLISH
BEGIN:VEVENT
UID:69e88966b0b6d
DTSTAMP:20260422T084006Z
DTSTART:20251223T053000Z
DTEND:20251223T090000Z
LOCATION:
SUMMARY:Faculty of Science Undergraduate Final Year & Course Project Display
DESCRIPTION:The Undergraduate Final Year &amp; Course Project Display of th
 e Faculty of Science\,  Salim Habib University\,  held to exhibit our stude
 nts&#8217; Final Year and Course Projects\,  took place on Tuesday\,  Decem
 ber 23\,  2025. The event featured a display of the research projects stude
 nts of Biosciences and Biotechnology have developed\,  which[..]\nhttps://w
 ww.shu.edu.pk/events/faculty-of-science-undergraduate-final-year-course-pro
 ject-display-2/
URL:https://www.shu.edu.pk/events/faculty-of-science-undergraduate-final-year-course-project-display-2/
END:VEVENT
END:VCALENDAR